BEGIN:VCALENDAR
VERSION:2.0
PRODID:spatie/icalendar-generator
DESCRIPTION:Events from Launceston Folk Club
X-WR-CALDESC:Events from Launceston Folk Club
REFRESH-INTERVAL;VALUE=DURATION:PT1440M
X-PUBLISHED-TTL:PT1440M
BEGIN:VTIMEZONE
TZID:Etc/GMT+0
BEGIN:STANDARD
DTSTART:20250514T190000Z
TZOFFSETFROM:+0000
TZOFFSETTO:+0000
END:STANDARD
END:VTIMEZONE
BEGIN:VTIMEZONE
TZID:UTC
BEGIN:STANDARD
DTSTART:20250728T164327Z
TZOFFSETFROM:+0000
TZOFFSETTO:+0000
END:STANDARD
END:VTIMEZONE
BEGIN:VEVENT
UID:24-22
DTSTAMP:20260424T164327Z
SUMMARY:Martha Woods
LOCATION:
ORGANIZER;CN=pw:MAILTO:pw@positiveways.co.uk
DTSTART;TZID=Etc/GMT+0:20260208T190000
DTEND;TZID=Etc/GMT+0:20260208T223000
X-ALT-DESC;FMTTYPE=TEXT/HTML:<p>Martha Woods is a wonderful musician based 
 in Lostwithiel and has been making waves on the folk circuit with her self
 -penned songs and arrangements of Cornish traditional music. Martha sings\
 , plays fiddle and creates electronic music that she has created\, providi
 ng an uplifting and interesting take on the genre.</p>\n
CATEGORIES:General,  LFC
URL;VALUE=URI:https://launcestonfolkclub.uk/mc-events/martha-woods/
METHOD:PUBLISH
END:VEVENT
END:VCALENDAR