BEGIN:VCALENDAR
VERSION:2.0
PRODID:spatie/icalendar-generator
DESCRIPTION:Events from Launceston Folk Club
X-WR-CALDESC:Events from Launceston Folk Club
REFRESH-INTERVAL;VALUE=DURATION:PT1440M
X-PUBLISHED-TTL:PT1440M
BEGIN:VTIMEZONE
TZID:Etc/GMT+0
BEGIN:STANDARD
DTSTART:20241224T203000Z
TZOFFSETFROM:+0000
TZOFFSETTO:+0000
END:STANDARD
END:VTIMEZONE
BEGIN:VTIMEZONE
TZID:UTC
BEGIN:STANDARD
DTSTART:20250729T163215Z
TZOFFSETFROM:+0000
TZOFFSETTO:+0000
END:STANDARD
END:VTIMEZONE
BEGIN:VEVENT
UID:16-15
DTSTAMP:20260425T163215Z
SUMMARY:Black Friday Band - Borderlands Festival
LOCATION:
ORGANIZER;CN=pw:MAILTO:pw@positiveways.co.uk
DTSTART;TZID=Etc/GMT+0:20250920T203000
DTEND;TZID=Etc/GMT+0:20250920T230000
X-ALT-DESC;FMTTYPE=TEXT/HTML:<p>The unstoppable Black Friday deliver their 
 stomping\, high energy home-brew of<br />\nfolk punk music across the sout
 h west and beyond. Their music is influenced by their Irish<br />\nand Cor
 nish roots and their folk heroes. Catchy original songs folk favourites by
  the likes of<br />\nFlogging Molly and The Pogues will keep you dancing a
 ll night.</p>\n
CATEGORIES:Borderlands Festival,  General,  LFC
URL;VALUE=URI:https://launcestonfolkclub.uk/mc-events/black-friday-band-bor
 derlands-festival/
METHOD:PUBLISH
END:VEVENT
END:VCALENDAR